BEGIN:VCALENDAR
VERSION:2.0
PRODID:-//destination.one//NONSGML destination.meta API//DE
X-WR-CALDESC:A calendar powered by destination.meta
X-WR-CALNAME:pleystein Kalender via destination.meta
BEGIN:VEVENT
CATEGORIES:Feste/Bälle/Tanz
CATEGORIES:Sonstiges
DESCRIPTION:\n\nmehr Informationen unter http://pages.destination.one/de/pl
 eystein/streaming/detail/Event/e_101259163/125jahre-tsv-pleystein
DTEND;TZID=Europe/Berlin;VALUE=DATE:20270621
DTSTAMP:20260422T153351Z
DTSTART;TZID=Europe/Berlin;VALUE=DATE:20270618
GEO:49.643735;12.393780
LOCATION:Sportheim des TSV Pleystein\, Waldthurner Straße 4\, \, Pleystein
ORGANIZER;CN=TSV Pleystein :mailto:windirsch@gmx.de
SEQUENCE:0
SUMMARY:125Jahre TSV Pleystein
UID:e_101259163_iv0
URL:http://pages.destination.one/de/pleystein/streaming/detail/Event/e_1012
 59163/125jahre-tsv-pleystein
END:VEVENT
BEGIN:VTIMEZONE
TZID:Europe/Berlin
X-LIC-LOCATION:Europe/Berlin
BEGIN:DAYLIGHT
DTSTART:19700329T020000
RRULE:FREQ=YEARLY;BYDAY=-1SU;BYMONTH=3
TZNAME:CEST
TZOFFSETFROM:+0100
TZOFFSETTO:+0200
END:DAYLIGHT
BEGIN:STANDARD
DTSTART:19701025T030000
RRULE:FREQ=YEARLY;BYDAY=-1SU;BYMONTH=10
TZNAME:CET
TZOFFSETFROM:+0200
TZOFFSETTO:+0100
END:STANDARD
END:VTIMEZONE
END:VCALENDAR
